BEGIN:VCALENDAR
VERSION:2.0
PRODID:-//Tukios.com/
BEGIN:VEVENT
UID:bf049031-66ef-43dc-9933-b8d30e315e1f@www.marionnelsonfuneralhome.com
DTSTAMP:20260423T191958Z
DTSTART:20260424T180000Z
DTEND:20260424T190000Z
SUMMARY:Memorial Service
DESCRIPTION:
URL:https://www.marionnelsonfuneralhome.com/obituaries/richard-dick-benson
LOCATION: 454 Buck Moore Rd  Lake Wales FL 33853
GEO:27.8971225;-81.5554447
END:VEVENT
END:VCALENDAR