BEGIN:VCALENDAR
VERSION:2.0
PRODID:-//Tukios.com/
BEGIN:VEVENT
UID:851bbc40-9819-4235-b3f7-51adff92bad8@www.marionnelsonfuneralhome.com
DTSTAMP:20260421T223840Z
DTSTART:20260423T150000Z
DTEND:20260423T160000Z
SUMMARY:Graveside Service
DESCRIPTION:
URL:https://www.marionnelsonfuneralhome.com/obituaries/mary-bielawa
LOCATION: 19190 Highway 27 South  Lake Wales FL 33853
GEO:27.894925;-81.601062
END:VEVENT
END:VCALENDAR