BEGIN:VCALENDAR
VERSION:2.0
PRODID:-//Tukios.com/
BEGIN:VEVENT
UID:856ad04f-1b5d-47bb-ab09-7aaab5755d0d@www.marionnelsonfuneralhome.com
DTSTAMP:20260421T203623Z
DTSTART:20260502T150000Z
DTEND:20260502T160000Z
SUMMARY:Funeral Service
DESCRIPTION:
URL:https://www.marionnelsonfuneralhome.com/obituaries/marcos-orozco-jr
LOCATION: 825 County Road 630A  Frostproof FL 33843
GEO:27.7544136;-81.577629
END:VEVENT
END:VCALENDAR