BEGIN:VCALENDAR
VERSION:2.0
PRODID:-//Tukios.com/
BEGIN:VEVENT
UID:2147503f-3e92-464d-82ba-41e18c5792c6@www.marionnelsonfuneralhome.com
DTSTAMP:20260421T203838Z
DTSTART:20260501T220000Z
DTEND:20260502T000000Z
SUMMARY:Visitation
DESCRIPTION:
URL:https://www.marionnelsonfuneralhome.com/obituaries/marcos-orozco-jr
LOCATION: 454 Buck Moore Rd  Lake Wales FL 33853
GEO:27.8971225;-81.5554447
END:VEVENT
END:VCALENDAR