BEGIN:VCALENDAR
VERSION:2.0
PRODID:-//Tukios.com/
BEGIN:VEVENT
UID:b3af93cc-a227-4136-9958-fcb652ee61f8@www.marionnelsonfuneralhome.com
DTSTAMP:20260424T224933Z
DTSTART:20260427T170000Z
DTEND:20260427T180000Z
SUMMARY:Visitation
DESCRIPTION:
URL:https://www.marionnelsonfuneralhome.com/obituaries/ernie-mccoy
LOCATION: 454 Buck Moore Rd  Lake Wales FL 33853
GEO:27.8971225;-81.5554447
END:VEVENT
END:VCALENDAR