BEGIN:VCALENDAR
VERSION:2.0
PRODID:-//Tukios.com/
BEGIN:VEVENT
UID:370f0d31-4b2e-40a9-91d7-7702e4d6bef6@www.marionnelsonfuneralhome.com
DTSTAMP:20260424T224925Z
DTSTART:20260427T193000Z
DTEND:20260427T203000Z
SUMMARY:Burial
DESCRIPTION:
URL:https://www.marionnelsonfuneralhome.com/obituaries/ernie-mccoy
LOCATION: 4810 Tilden Road  Winter Haven FL 33881
GEO:28.0845348;-81.6941046
END:VEVENT
END:VCALENDAR