BEGIN:VCALENDAR
VERSION:2.0
PRODID:-//Tukios.com/
BEGIN:VEVENT
UID:6338e825-b66a-461c-abfa-12bf282e0f2e@www.marionnelsonfuneralhome.com
DTSTAMP:20260424T224925Z
DTSTART:20260427T180000Z
DTEND:20260427T190000Z
SUMMARY:Funeral Service
DESCRIPTION:
URL:https://www.marionnelsonfuneralhome.com/obituaries/ernie-mccoy
LOCATION: 454 Buck Moore Rd  Lake Wales FL 33853
GEO:27.8971225;-81.5554447
END:VEVENT
END:VCALENDAR